BEGIN:VCALENDAR
VERSION:2.0
PRODID:-//Plone.org//NONSGML plone.app.event//EN
X-WR-TIMEZONE:Europe/Berlin
BEGIN:VEVENT
SUMMARY:Meetings Across Borders – Online Course
DTSTART;TZID=Europe/Berlin:20240905T090000
DTEND;TZID=Europe/Berlin:20240905T170000
DTSTAMP:20260424T043726Z
UID:b020ce5bcedb4f678678dc1c506e93cf@www.uni-marburg.de
ATTENDEE;CN="Andrew Cerniski";ROLE=REQ-PARTICIPANT:Andrew Cerniski
ATTENDEE;CN=www.english-inc.de;ROLE=REQ-PARTICIPANT:www.english-inc.de
CREATED:20201202T152216Z
DESCRIPTION:https://www.uni-marburg.de/en/mara/pr-mara/events/2024/program
 -life-and-natural-sciences/meetings-across-borders\n
LAST-MODIFIED:20240222T082215Z
LOCATION:Online
URL:https://www.uni-marburg.de/en/mara/pr-mara/events/2024/program-life-an
 d-natural-sciences/meetings-across-borders
END:VEVENT
BEGIN:VTIMEZONE
TZID:Europe/Berlin
X-LIC-LOCATION:Europe/Berlin
BEGIN:DAYLIGHT
DTSTART:20240331T030000
TZNAME:CEST
TZOFFSETFROM:+0100
TZOFFSETTO:+0200
END:DAYLIGHT
END:VTIMEZONE
END:VCALENDAR
