BEGIN:VCALENDAR
VERSION:2.0
PRODID:-//Plone.org//NONSGML plone.app.event//EN
X-WR-TIMEZONE:Europe/Berlin
BEGIN:VEVENT
SUMMARY:Welcome Walk
DTSTART;TZID=Europe/Berlin:20250522T160000
DTEND;TZID=Europe/Berlin:20250522T180000
DTSTAMP:20260422T025343Z
UID:473548343b5947a3b2501dcb811f0641@www.uni-marburg.de
CREATED:20240828T073554Z
DESCRIPTION:https://www.uni-marburg.de/en/mara/pr-mara/events/2025/managin
 g-division/welcome-walk_22-05-2025\n
LAST-MODIFIED:20250303T103632Z
LOCATION:Main entrance Mensa Lahnberge
URL:https://www.uni-marburg.de/en/mara/pr-mara/events/2025/managing-divisi
 on/welcome-walk_22-05-2025
END:VEVENT
BEGIN:VTIMEZONE
TZID:Europe/Berlin
X-LIC-LOCATION:Europe/Berlin
BEGIN:DAYLIGHT
DTSTART:20250330T030000
TZNAME:CEST
TZOFFSETFROM:+0100
TZOFFSETTO:+0200
END:DAYLIGHT
END:VTIMEZONE
END:VCALENDAR
