BEGIN:VCALENDAR
VERSION:2.0
PRODID:-//Plone.org//NONSGML plone.app.event//EN
X-WR-TIMEZONE:Europe/Berlin
BEGIN:VEVENT
SUMMARY:Welcome Walk
DTSTART;TZID=Europe/Berlin:20250923T120000
DTEND;TZID=Europe/Berlin:20250923T140000
DTSTAMP:20260421T143959Z
UID:e467f42c35de4cff9620ae112fad4197@www.uni-marburg.de
CREATED:20240828T073554Z
DESCRIPTION:https://www.uni-marburg.de/en/mara/pr-mara/events/2025/managin
 g-division/welcome-walk_23-09-2025\n
LAST-MODIFIED:20250304T081817Z
LOCATION:Main entrance Mensa Lahnberge
URL:https://www.uni-marburg.de/en/mara/pr-mara/events/2025/managing-divisi
 on/welcome-walk_23-09-2025
END:VEVENT
BEGIN:VTIMEZONE
TZID:Europe/Berlin
X-LIC-LOCATION:Europe/Berlin
BEGIN:DAYLIGHT
DTSTART:20250330T030000
TZNAME:CEST
TZOFFSETFROM:+0100
TZOFFSETTO:+0200
END:DAYLIGHT
END:VTIMEZONE
END:VCALENDAR
