BEGIN:VCALENDAR
VERSION:2.0
PRODID:-//Plone.org//NONSGML plone.app.event//EN
X-WR-TIMEZONE:Europe/Berlin
BEGIN:VEVENT
SUMMARY:EMF – The Basics of Science Communication – In-person event
DTSTART;TZID=Europe/Berlin:20251210T090000
DTEND;TZID=Europe/Berlin:20251210T170000
DTSTAMP:20260422T152643Z
UID:09177819f0db4a909872e2aea2aa0a1b@www.uni-marburg.de
ATTENDEE;CN="Dr. Elisabeth Hoffmann";ROLE=REQ-PARTICIPANT:Dr. Elisabeth Ho
 ffmann
CREATED:20180606T112752Z
DESCRIPTION:https://www.uni-marburg.de/en/mara/pr-mara/events/2025/program
 -for-postdocs/emf_basics_wisskomm\nIn this workshop you will learn the bas
 ics of science communication.
LAST-MODIFIED:20250107T082321Z
LOCATION:MARA F|05\, Deutschhausstraße 11+13\, Seminar room 01.0010
URL:https://www.uni-marburg.de/en/mara/pr-mara/events/2025/program-for-pos
 tdocs/emf_basics_wisskomm
END:VEVENT
BEGIN:VTIMEZONE
TZID:Europe/Berlin
X-LIC-LOCATION:Europe/Berlin
BEGIN:STANDARD
DTSTART:20251026T020000
TZNAME:CET
TZOFFSETFROM:+0200
TZOFFSETTO:+0100
END:STANDARD
END:VTIMEZONE
END:VCALENDAR
