BEGIN:VCALENDAR
VERSION:2.0
PRODID:-//Plone.org//NONSGML plone.app.event//EN
X-WR-TIMEZONE:Europe/Berlin
BEGIN:VEVENT
SUMMARY:Science\, Private Economy or Public Administration? – Career Pat
 hs after Your Doctorate – Online Event
DTSTART;TZID=Europe/Berlin:20250124T090000
DTEND;TZID=Europe/Berlin:20250124T130000
DTSTAMP:20260422T020537Z
UID:f2e8c7bb9b724226a82ced1709c60399@www.uni-marburg.de
ATTENDEE;CN="Dr. Andreas Stützer";ROLE=REQ-PARTICIPANT:Dr. Andreas Stütz
 er
ATTENDEE;CN="https://selbstdenker.info";ROLE=REQ-PARTICIPANT:https://selbs
 tdenker.info
CREATED:20180110T100212Z
DESCRIPTION:https://www.uni-marburg.de/en/mara/pr-mara/events/2025/program
 -humanities-and-social-sciences/career-paths\n
LAST-MODIFIED:20240708T085339Z
LOCATION:Online
URL:https://www.uni-marburg.de/en/mara/pr-mara/events/2025/program-humanit
 ies-and-social-sciences/career-paths
END:VEVENT
BEGIN:VTIMEZONE
TZID:Europe/Berlin
X-LIC-LOCATION:Europe/Berlin
BEGIN:STANDARD
DTSTART:20241027T020000
TZNAME:CET
TZOFFSETFROM:+0200
TZOFFSETTO:+0100
END:STANDARD
END:VTIMEZONE
END:VCALENDAR
