BEGIN:VCALENDAR
VERSION:2.0
PRODID:-//Plone.org//NONSGML plone.app.event//EN
X-WR-TIMEZONE:Europe/Berlin
BEGIN:VEVENT
SUMMARY:Writing Lab – English Academic Writing for the Humanities and So
 cial Sciences
DTSTART;TZID=Europe/Berlin:20251127T100000
DTEND;TZID=Europe/Berlin:20251127T173000
DTSTAMP:20260421T033627Z
UID:ed47043c8b144157b749955f6727ab72@www.uni-marburg.de
RRULE:FREQ=DAILY;UNTIL=20251128T000000
ATTENDEE;CN="Stephan Elkins";ROLE=REQ-PARTICIPANT:Stephan Elkins
ATTENDEE;CN="Andrea Tönjes";ROLE=REQ-PARTICIPANT:Andrea Tönjes
ATTENDEE;CN=www.english-academic-writing.de;ROLE=REQ-PARTICIPANT:www.engli
 sh-academic-writing.de
CREATED:20210628T091226Z
DESCRIPTION:https://www.uni-marburg.de/en/mara/pr-mara/events/2025/program
 -humanities-and-social-sciences/english-academic-writing\n
LAST-MODIFIED:20250519T074417Z
LOCATION:Philipps-Universität Marburg\, MARA\, F|05\, Deutschhausstraße 
 11+13\, Seminar room 01.0010
URL:https://www.uni-marburg.de/en/mara/pr-mara/events/2025/program-humanit
 ies-and-social-sciences/english-academic-writing
END:VEVENT
BEGIN:VTIMEZONE
TZID:Europe/Berlin
X-LIC-LOCATION:Europe/Berlin
BEGIN:STANDARD
DTSTART:20251026T020000
TZNAME:CET
TZOFFSETFROM:+0200
TZOFFSETTO:+0100
END:STANDARD
END:VTIMEZONE
END:VCALENDAR
