BEGIN:VCALENDAR
VERSION:2.0
PRODID:-//Plone.org//NONSGML plone.app.event//EN
X-WR-TIMEZONE:Europe/Berlin
BEGIN:VEVENT
SUMMARY:The Humanist's Guide to Data Analysis Basics
DTSTART;TZID=Europe/Berlin:20251209T090000
DTEND;TZID=Europe/Berlin:20251209T160000
DTSTAMP:20260422T045525Z
UID:19eea7d7e9444c79a8b27e0f3652184e@www.uni-marburg.de
ATTENDEE;CN="Dr. des. Golnaz Sarkar Farshi";ROLE=REQ-PARTICIPANT:Dr. des. 
 Golnaz Sarkar Farshi
ATTENDEE;CN="http://www.hermes-hub.de";ROLE=REQ-PARTICIPANT:http://www.her
 mes-hub.de
CREATED:20181128T092325Z
DESCRIPTION:https://www.uni-marburg.de/en/mara/pr-mara/events/2025/program
 -humanities-and-social-sciences/humanist_data_analysis\n
LAST-MODIFIED:20250305T074555Z
LOCATION:Philipps-Universität Marburg\, MARA\, F|05\, Deutschhausstraße 
 11+13\, Seminar room 01.0010
URL:https://www.uni-marburg.de/en/mara/pr-mara/events/2025/program-humanit
 ies-and-social-sciences/humanist_data_analysis
END:VEVENT
BEGIN:VTIMEZONE
TZID:Europe/Berlin
X-LIC-LOCATION:Europe/Berlin
BEGIN:STANDARD
DTSTART:20251026T020000
TZNAME:CET
TZOFFSETFROM:+0200
TZOFFSETTO:+0100
END:STANDARD
END:VTIMEZONE
END:VCALENDAR
