BEGIN:VCALENDAR
VERSION:2.0
PRODID:-//Plone.org//NONSGML plone.app.event//EN
X-WR-TIMEZONE:Europe/Berlin
BEGIN:VEVENT
SUMMARY:Get That Job After Your Doctorate! – Applying & Interviewing for
  Positions in Industry and Research – Online Event
DTSTART;VALUE=DATE:20250312
DTEND;VALUE=DATE:20250313
DTSTAMP:20260421T125248Z
UID:402e9710374b485498882d5145360a4b@www.uni-marburg.de
RRULE:FREQ=DAILY;COUNT=7
RDATE:20250321
EXDATE:20250313,20250314,20250315,20250316,20250317,20250318
ATTENDEE;CN="Andrew Cerniski";ROLE=REQ-PARTICIPANT:Andrew Cerniski
ATTENDEE;CN=www.english-inc.de;ROLE=REQ-PARTICIPANT:www.english-inc.de
CREATED:20201202T152216Z
DESCRIPTION:https://www.uni-marburg.de/en/mara/pr-mara/events/2025/program
 -life-and-natural-sciences/get-that-job\n
LAST-MODIFIED:20240627T083253Z
LOCATION:Online
URL:https://www.uni-marburg.de/en/mara/pr-mara/events/2025/program-life-an
 d-natural-sciences/get-that-job
END:VEVENT
END:VCALENDAR
