BEGIN:VCALENDAR
VERSION:2.0
PRODID:-//Plone.org//NONSGML plone.app.event//EN
X-WR-TIMEZONE:Europe/Berlin
BEGIN:VEVENT
SUMMARY:Good Scientific Practice – Protecting Research Integrity – Onl
 ine Event
DTSTART;TZID=Europe/Berlin:20250519T093000
DTEND;TZID=Europe/Berlin:20250519T161500
DTSTAMP:20260423T064758Z
UID:21132f60cca54b23b0f2057c81a767a1@www.uni-marburg.de
RRULE:FREQ=DAILY;COUNT=2
ATTENDEE;CN="Dr. Michael Gommel";ROLE=REQ-PARTICIPANT:Dr. Michael Gommel
ATTENDEE;CN=www.scientificintegrity.de;ROLE=REQ-PARTICIPANT:www.scientific
 integrity.de
CREATED:20201203T085747Z
DESCRIPTION:https://www.uni-marburg.de/en/mara/pr-mara/events/2025/program
 -life-and-natural-sciences/good-scientific-practice\n
LAST-MODIFIED:20240905T095223Z
LOCATION:Online – Zoom
URL:https://www.uni-marburg.de/en/mara/pr-mara/events/2025/program-life-an
 d-natural-sciences/good-scientific-practice
END:VEVENT
BEGIN:VTIMEZONE
TZID:Europe/Berlin
X-LIC-LOCATION:Europe/Berlin
BEGIN:DAYLIGHT
DTSTART:20250330T030000
TZNAME:CEST
TZOFFSETFROM:+0100
TZOFFSETTO:+0200
END:DAYLIGHT
END:VTIMEZONE
END:VCALENDAR
