BEGIN:VCALENDAR
VERSION:2.0
PRODID:-//Plone.org//NONSGML plone.app.event//EN
X-WR-TIMEZONE:Europe/Berlin
BEGIN:VEVENT
SUMMARY:Designing Effective Academic Posters – From the Traditional Pape
 r Poster to the Next Level of Digitally Presented E-Poster Concepts – On
 line Event
DTSTART;TZID=Europe/Berlin:20260414T090000
DTEND;TZID=Europe/Berlin:20260414T160000
DTSTAMP:20260419T160911Z
UID:27c5626a63194a01b2e92ceaf2be5e52@www.uni-marburg.de
RRULE:FREQ=DAILY;UNTIL=20260415T000000
ATTENDEE;CN="Birgit Lukowski";ROLE=REQ-PARTICIPANT:Birgit Lukowski
ATTENDEE;CN="https://designspace.suedstern-grafik.de";ROLE=REQ-PARTICIPANT
 :https://designspace.suedstern-grafik.de
CATEGORIES:()
CREATED:20211125T113124Z
DESCRIPTION:https://www.uni-marburg.de/en/mara/pr-mara/events/2026/program
 -for-doctoral-candidates/academic-posters\n
LAST-MODIFIED:20251119T094022Z
LOCATION:Online – Zoom
URL:https://www.uni-marburg.de/en/mara/pr-mara/events/2026/program-for-doc
 toral-candidates/academic-posters
END:VEVENT
BEGIN:VTIMEZONE
TZID:Europe/Berlin
X-LIC-LOCATION:Europe/Berlin
BEGIN:DAYLIGHT
DTSTART:20260329T030000
TZNAME:CEST
TZOFFSETFROM:+0100
TZOFFSETTO:+0200
END:DAYLIGHT
END:VTIMEZONE
END:VCALENDAR
