BEGIN:VCALENDAR
VERSION:2.0
PRODID:-//Plone.org//NONSGML plone.app.event//EN
X-WR-TIMEZONE:Europe/Berlin
BEGIN:VEVENT
SUMMARY:Finding Your Way at Philipps-Universität Marburg! – How to Sett
 le in\, Feel at Home and Thrive at Work
DTSTART;TZID=Europe/Berlin:20261203T090000
DTEND;TZID=Europe/Berlin:20261203T160000
DTSTAMP:20260419T160741Z
UID:c155bc4d619e4531936e026d1ebe49bc@www.uni-marburg.de
RRULE:FREQ=DAILY;UNTIL=20261204T000000
ATTENDEE;CN="Dr. Philippa Cook";ROLE=REQ-PARTICIPANT:Dr. Philippa Cook
CATEGORIES:()
CREATED:20181130T103506Z
DESCRIPTION:https://www.uni-marburg.de/en/mara/pr-mara/events/2026/program
 -for-doctoral-candidates/finding-your-way\nA Workshop for International Re
 searchers
LAST-MODIFIED:20260324T101233Z
LOCATION:Philipps-Universität Marburg\, MARA\, F|05\, Deutschhausstraße 
 11+13\, Seminar room 01.0010
URL:https://www.uni-marburg.de/en/mara/pr-mara/events/2026/program-for-doc
 toral-candidates/finding-your-way
END:VEVENT
BEGIN:VTIMEZONE
TZID:Europe/Berlin
X-LIC-LOCATION:Europe/Berlin
BEGIN:STANDARD
DTSTART:20261025T020000
TZNAME:CET
TZOFFSETFROM:+0200
TZOFFSETTO:+0100
END:STANDARD
END:VTIMEZONE
END:VCALENDAR
