BEGIN:VCALENDAR
VERSION:2.0
PRODID:-//Plone.org//NONSGML plone.app.event//EN
X-WR-TIMEZONE:Europe/Berlin
BEGIN:VEVENT
SUMMARY:Fundamentals of Python
DTSTART;TZID=Europe/Berlin:20261028T090000
DTEND;TZID=Europe/Berlin:20261028T160000
DTSTAMP:20260421T015311Z
UID:6ae585441e4445cbb28b0ef5379cfac3@www.uni-marburg.de
RRULE:FREQ=DAILY;UNTIL=20261030T000000
ATTENDEE;CN="Dr. Alexander Britz";ROLE=REQ-PARTICIPANT:Dr. Alexander Britz
ATTENDEE;CN=www.alexbritz.de;ROLE=REQ-PARTICIPANT:www.alexbritz.de
CATEGORIES:()
CREATED:20181130T103506Z
DESCRIPTION:https://www.uni-marburg.de/en/mara/pr-mara/events/2026/program
 -for-doctoral-candidates/fundamentals-of-python\n
LAST-MODIFIED:20260304T080824Z
LOCATION:Philipps-Universität Marburg\, MARA\, F|05\, Deutschhausstraße 
 11+13\, Seminar room 01.0010
URL:https://www.uni-marburg.de/en/mara/pr-mara/events/2026/program-for-doc
 toral-candidates/fundamentals-of-python
END:VEVENT
BEGIN:VTIMEZONE
TZID:Europe/Berlin
X-LIC-LOCATION:Europe/Berlin
BEGIN:STANDARD
DTSTART:20261025T020000
TZNAME:CET
TZOFFSETFROM:+0200
TZOFFSETTO:+0100
END:STANDARD
END:VTIMEZONE
END:VCALENDAR
