BEGIN:VCALENDAR
VERSION:2.0
PRODID:-//Plone.org//NONSGML plone.app.event//EN
X-WR-TIMEZONE:Europe/Berlin
BEGIN:VEVENT
SUMMARY:Increase Your Employability with a PhD – A Workshop on Becoming 
 Your Own Marketing Manager – Online Event
DTSTART;TZID=Europe/Berlin:20261202T090000
DTEND;TZID=Europe/Berlin:20261202T160000
DTSTAMP:20260424T124401Z
UID:91e343c467924b399d0715c5a9caebe1@www.uni-marburg.de
ATTENDEE;CN="Wolfgang Leybold";ROLE=REQ-PARTICIPANT:Wolfgang Leybold
ATTENDEE;CN=www.leybold.de;ROLE=REQ-PARTICIPANT:www.leybold.de
CATEGORIES:()
CREATED:20211125T113124Z
DESCRIPTION:https://www.uni-marburg.de/en/mara/pr-mara/events/2026/program
 -for-doctoral-candidates/increase-your-employability\n
LAST-MODIFIED:20260422T085834Z
LOCATION:Online – Zoom
URL:https://www.uni-marburg.de/en/mara/pr-mara/events/2026/program-for-doc
 toral-candidates/increase-your-employability
END:VEVENT
BEGIN:VTIMEZONE
TZID:Europe/Berlin
X-LIC-LOCATION:Europe/Berlin
BEGIN:STANDARD
DTSTART:20261025T020000
TZNAME:CET
TZOFFSETFROM:+0200
TZOFFSETTO:+0100
END:STANDARD
END:VTIMEZONE
END:VCALENDAR
