BEGIN:VCALENDAR
VERSION:2.0
PRODID:-//Plone.org//NONSGML plone.app.event//EN
X-WR-TIMEZONE:Europe/Berlin
BEGIN:VEVENT
SUMMARY:Online Writing Retreat
DTSTART;TZID=Europe/Berlin:20260831T090000
DTEND;TZID=Europe/Berlin:20260831T170000
DTSTAMP:20260420T062240Z
UID:90299906e32f40f987d53492b0ecfdd0@www.uni-marburg.de
RRULE:FREQ=DAILY;UNTIL=20260904T000000
EXDATE;TZID=Europe/Berlin:20240824T090000,20240825T090000,20250830T090000,
 20250831T090000
ATTENDEE;CN="Dr. Alexander Egeling";ROLE=REQ-PARTICIPANT:Dr. Alexander Ege
 ling
ATTENDEE;CN=www.alexander-egeling.de;ROLE=REQ-PARTICIPANT:www.alexander-eg
 eling.de
CATEGORIES:()
CREATED:20191119T114031Z
DESCRIPTION:https://www.uni-marburg.de/en/mara/pr-mara/events/2026/program
 -for-doctoral-candidates/online-writing-retreat\n
LAST-MODIFIED:20260304T110151Z
LOCATION:Online
URL:https://www.uni-marburg.de/en/mara/pr-mara/events/2026/program-for-doc
 toral-candidates/online-writing-retreat
END:VEVENT
BEGIN:VTIMEZONE
TZID:Europe/Berlin
X-LIC-LOCATION:Europe/Berlin
BEGIN:DAYLIGHT
DTSTART:20260329T030000
TZNAME:CEST
TZOFFSETFROM:+0100
TZOFFSETTO:+0200
END:DAYLIGHT
END:VTIMEZONE
END:VCALENDAR
