BEGIN:VCALENDAR
VERSION:2.0
PRODID:-//Plone.org//NONSGML plone.app.event//EN
X-WR-TIMEZONE:Europe/Berlin
BEGIN:VEVENT
SUMMARY:Thesis-Defense Training – Prepare Your Viva and Gain Confidence
DTSTART;TZID=Europe/Berlin:20261008T090000
DTEND;TZID=Europe/Berlin:20261008T160000
DTSTAMP:20260420T125935Z
UID:a1bf0d754d274a669730998753972e92@www.uni-marburg.de
RRULE:FREQ=DAILY;UNTIL=20261009T000000
ATTENDEE;CN="Dr. Jan Schmidt";ROLE=REQ-PARTICIPANT:Dr. Jan Schmidt
ATTENDEE;CN="https://www.janschmidt-training.de";ROLE=REQ-PARTICIPANT:http
 s://www.janschmidt-training.de
CATEGORIES:()
CREATED:20181130T103506Z
DESCRIPTION:https://www.uni-marburg.de/en/mara/pr-mara/events/2026/program
 -for-doctoral-candidates/thesis-defense-training\n
LAST-MODIFIED:20260306T110905Z
LOCATION:Philipps-Universität Marburg\, MARA\, F|05\, Deutschhausstraße 
 11+13\, Seminar room 01.0010
URL:https://www.uni-marburg.de/en/mara/pr-mara/events/2026/program-for-doc
 toral-candidates/thesis-defense-training
END:VEVENT
BEGIN:VTIMEZONE
TZID:Europe/Berlin
X-LIC-LOCATION:Europe/Berlin
BEGIN:DAYLIGHT
DTSTART:20260329T030000
TZNAME:CEST
TZOFFSETFROM:+0100
TZOFFSETTO:+0200
END:DAYLIGHT
END:VTIMEZONE
END:VCALENDAR
