BEGIN:VCALENDAR
VERSION:2.0
PRODID:-//Plone.org//NONSGML plone.app.event//EN
X-WR-TIMEZONE:Europe/Berlin
BEGIN:VEVENT
SUMMARY:EMF – Decision Making for (future) Team Leaders – Online event
DTSTART;TZID=Europe/Berlin:20260219T090000
DTEND;TZID=Europe/Berlin:20260219T120000
DTSTAMP:20260426T002300Z
UID:ccb8233842af455a93ed5063fc90d1bc@www.uni-marburg.de
RRULE:FREQ=DAILY;COUNT=7
EXDATE;TZID=Europe/Berlin:20260221T090000,20260222T090000,20260223T090000,
 20260224T090000,20260225T090000
ATTENDEE;CN="Vicent Botella-Soler, PhD";ROLE=REQ-PARTICIPANT:Vicent Botell
 a-Soler, PhD
ATTENDEE;CN=www.dickersonetal.com/the-team;ROLE=REQ-PARTICIPANT:www.dicker
 sonetal.com/the-team
CATEGORIES:()
CREATED:20181203T210138Z
DESCRIPTION:https://www.uni-marburg.de/en/mara/pr-mara/events/2026/program
 -for-postdocs/emf-decision\nTrain to make decisions for yourself and for y
 our team as a leading person.
LAST-MODIFIED:20251205T165925Z
LOCATION:Online
URL:https://www.uni-marburg.de/en/mara/pr-mara/events/2026/program-for-pos
 tdocs/emf-decision
END:VEVENT
BEGIN:VTIMEZONE
TZID:Europe/Berlin
X-LIC-LOCATION:Europe/Berlin
BEGIN:STANDARD
DTSTART:20251026T020000
TZNAME:CET
TZOFFSETFROM:+0200
TZOFFSETTO:+0100
END:STANDARD
END:VTIMEZONE
END:VCALENDAR
