BEGIN:VCALENDAR
VERSION:2.0
PRODID:-//Plone.org//NONSGML plone.app.event//EN
X-WR-TIMEZONE:Europe/Berlin
BEGIN:VEVENT
SUMMARY:EMF – Informational Event for the Certificate Program "Designing
  and Managing Research Projects" (EMF) – Online event
DTSTART;TZID=Europe/Berlin:20260128T120000
DTEND;TZID=Europe/Berlin:20260128T130000
DTSTAMP:20260420T224716Z
UID:4c96832233944c48b7b64431560254bf@www.uni-marburg.de
ATTENDEE;CN="Dr. Christine Berger";ROLE=REQ-PARTICIPANT:Dr. Christine Berg
 er
CATEGORIES:()
CREATED:20220528T155949Z
DESCRIPTION:https://www.uni-marburg.de/en/mara/pr-mara/events/2026/program
 -for-postdocs/emf-infoevent-mr-jan26\nDuring this informational event you 
 will learn about the objectives and the process of the certificate program
  "Designing and Managing Research Projects" (EMF) and  its modules project
  development and project application\, project management\, presentation o
 f research projects and transfer.
LAST-MODIFIED:20251202T103200Z
LOCATION:Online in BBB
URL:https://www.uni-marburg.de/en/mara/pr-mara/events/2026/program-for-pos
 tdocs/emf-infoevent-mr-jan26
END:VEVENT
BEGIN:VTIMEZONE
TZID:Europe/Berlin
X-LIC-LOCATION:Europe/Berlin
BEGIN:STANDARD
DTSTART:20251026T020000
TZNAME:CET
TZOFFSETFROM:+0200
TZOFFSETTO:+0100
END:STANDARD
END:VTIMEZONE
END:VCALENDAR
