BEGIN:VCALENDAR
VERSION:2.0
PRODID:-//Plone.org//NONSGML plone.app.event//EN
X-WR-TIMEZONE:Europe/Berlin
BEGIN:VEVENT
SUMMARY:EMF – Management of Third-Party-Funded Research Projects – In-
 person event
DTSTART;TZID=Europe/Berlin:20260519T090000
DTEND;TZID=Europe/Berlin:20260519T170000
DTSTAMP:20260422T201926Z
UID:f29199eb4e15446fac7a311b8a33210e@www.uni-marburg.de
RRULE:FREQ=DAILY;UNTIL=20260520T000000
RDATE;TZID=Europe/Berlin:20260520T090000
ATTENDEE;CN="Dr. Nils Reschke";ROLE=REQ-PARTICIPANT:Dr. Nils Reschke
ATTENDEE;CN=www.nilsreschke.world;ROLE=REQ-PARTICIPANT:www.nilsreschke.wor
 ld
CATEGORIES:()
CREATED:20181203T210138Z
DESCRIPTION:https://www.uni-marburg.de/en/mara/pr-mara/events/2026/program
 -for-postdocs/emf-management-en\nIn this hands-on workshop\, you will lear
 n how to professionally manage third-party-funded research projects from s
 tart to finish.
LAST-MODIFIED:20251203T121232Z
LOCATION:MARA F|05\, Deutschhausstraße 11+13\, Seminar room 01.0010
URL:https://www.uni-marburg.de/en/mara/pr-mara/events/2026/program-for-pos
 tdocs/emf-management-en
END:VEVENT
BEGIN:VTIMEZONE
TZID:Europe/Berlin
X-LIC-LOCATION:Europe/Berlin
BEGIN:DAYLIGHT
DTSTART:20260329T030000
TZNAME:CEST
TZOFFSETFROM:+0100
TZOFFSETTO:+0200
END:DAYLIGHT
END:VTIMEZONE
END:VCALENDAR
