BEGIN:VCALENDAR
VERSION:2.0
PRODID:-//Plone.org//NONSGML plone.app.event//EN
X-WR-TIMEZONE:Europe/Berlin
BEGIN:VEVENT
SUMMARY:EMF – Registration for the Certificate Program EMF
DTSTART;VALUE=DATE:20260216
DTEND;VALUE=DATE:20260217
DTSTAMP:20260420T022814Z
UID:8a18441c0a9f456a8a04c3fd8623828c@www.uni-marburg.de
ATTENDEE;CN=Diverse;ROLE=REQ-PARTICIPANT:Diverse
CATEGORIES:()
CREATED:20240717T105134Z
DESCRIPTION:https://www.uni-marburg.de/en/mara/pr-mara/events/2026/program
 -for-postdocs/emf-registration-mr\nInformation regarding the registration 
 for the EMF certificate program
LAST-MODIFIED:20260224T092500Z
LOCATION:Registration online via the external database Campus Events
URL:https://www.uni-marburg.de/en/mara/pr-mara/events/2026/program-for-pos
 tdocs/emf-registration-mr
END:VEVENT
END:VCALENDAR
