BEGIN:VCALENDAR
VERSION:2.0
PRODID:-//Plone.org//NONSGML plone.app.event//EN
X-WR-TIMEZONE:Europe/Berlin
BEGIN:VEVENT
SUMMARY:EMF – Presentation Skills for Female Researchers – In-person e
 vent
DTSTART;TZID=Europe/Berlin:20260528T090000
DTEND;TZID=Europe/Berlin:20260528T163000
DTSTAMP:20260424T123333Z
UID:8bddba00ba2a44c6b96e29afd233fcc7@www.uni-marburg.de
RRULE:FREQ=DAILY;UNTIL=20250703T000000
ATTENDEE;CN="Lenka Wolf";ROLE=REQ-PARTICIPANT:Lenka Wolf
ATTENDEE;CN=www.lenka-wolf.de;ROLE=REQ-PARTICIPANT:www.lenka-wolf.de
CATEGORIES:()
CREATED:20180606T112752Z
DESCRIPTION:https://www.uni-marburg.de/en/mara/pr-mara/events/2026/program
 -for-postdocs/emf-theatre\nPublic speaking and stage presence with theatre
 -based training: This workshop empowers women in research to present with 
 confidence\, presence\, and authenticity to make a lasting impact.
LAST-MODIFIED:20260421T073708Z
LOCATION:MARA F|05\, Deutschhausstraße 11+13\, Seminar room 01.0010
URL:https://www.uni-marburg.de/en/mara/pr-mara/events/2026/program-for-pos
 tdocs/emf-theatre
END:VEVENT
BEGIN:VTIMEZONE
TZID:Europe/Berlin
X-LIC-LOCATION:Europe/Berlin
BEGIN:DAYLIGHT
DTSTART:20260329T030000
TZNAME:CEST
TZOFFSETFROM:+0100
TZOFFSETTO:+0200
END:DAYLIGHT
END:VTIMEZONE
END:VCALENDAR
