BEGIN:VCALENDAR
VERSION:2.0
PRODID:-//Plone.org//NONSGML plone.app.event//EN
X-WR-TIMEZONE:Europe/Berlin
BEGIN:VEVENT
SUMMARY:The Anthropology of Infrastructure: Between Fad and Singular Contr
 ibutions
DTSTART;TZID=Europe/Berlin:20180621T181500
DTEND;TZID=Europe/Berlin:20180621T194500
DTSTAMP:20260424T043704Z
UID:a0a8779fcde543588ab0a8e64eade185@www.uni-marburg.de
ATTENDEE;CN="Dr. Natalia Buier, Max Planck Institute for Social Anthropolo
 gy, Halle";ROLE=REQ-PARTICIPANT:Dr. Natalia Buier, Max Planck Institute fo
 r Social Anthropology, Halle
CREATED:20180216T101933Z
DESCRIPTION:https://www.uni-marburg.de/en/prfolder-en/events/anthrolabnata
 liabuier\nLecture series AnthroLab
LAST-MODIFIED:20180216T102353Z
LOCATION:Deutschhausstraße 3\, lecture hall\, 2nd floor
URL:https://www.uni-marburg.de/en/prfolder-en/events/anthrolabnataliabuier
END:VEVENT
BEGIN:VTIMEZONE
TZID:Europe/Berlin
X-LIC-LOCATION:Europe/Berlin
BEGIN:DAYLIGHT
DTSTART:20180325T030000
TZNAME:CEST
TZOFFSETFROM:+0100
TZOFFSETTO:+0200
END:DAYLIGHT
END:VTIMEZONE
END:VCALENDAR
