BEGIN:VCALENDAR
VERSION:2.0
PRODID:-//Plone.org//NONSGML plone.app.event//EN
X-WR-TIMEZONE:Europe/Berlin
BEGIN:VEVENT
SUMMARY:International conference “Re-Centering a Region: the Maghreb in 
 Motion”
DTSTART;TZID=Europe/Berlin:20180216T090000
DTEND;TZID=Europe/Berlin:20180217T143000
DTSTAMP:20260424T031605Z
UID:6fdc7c2bdef74c328b17a879e86e9871@www.uni-marburg.de
CREATED:20180129T091023Z
DESCRIPTION:https://www.uni-marburg.de/en/prfolder-en/events/conference-ma
 ghreb\n
LAST-MODIFIED:20180129T091119Z
LOCATION:Hörsaalgebäude\, Biegenstr. 14\, Room +2/0110
URL:https://www.uni-marburg.de/en/prfolder-en/events/conference-maghreb
END:VEVENT
BEGIN:VTIMEZONE
TZID:Europe/Berlin
X-LIC-LOCATION:Europe/Berlin
BEGIN:STANDARD
DTSTART:20171029T020000
TZNAME:CET
TZOFFSETFROM:+0200
TZOFFSETTO:+0100
END:STANDARD
END:VTIMEZONE
END:VCALENDAR
