BEGIN:VCALENDAR
VERSION:2.0
PRODID:-//Plone.org//NONSGML plone.app.event//EN
X-WR-TIMEZONE:Europe/Berlin
BEGIN:VEVENT
SUMMARY:Marburg Postdoc Meeting 2019
DTSTART;TZID=Europe/Berlin:20191108T133000
DTEND;TZID=Europe/Berlin:20191108T170000
DTSTAMP:20260424T043839Z
UID:8002153b40c244b1908e83fe3125d267@www.uni-marburg.de
CREATED:20191023T055539Z
DESCRIPTION:https://www.uni-marburg.de/en/prfolder-en/events/marburg-postd
 oc-meeting-2019\nScientific networking event\, keynote and panel discussio
 n for all postdocs at Philipps-Universität Marburg
LAST-MODIFIED:20191104T093105Z
LOCATION:Hörsaalgebäude/Lecture halls building\, Biegenstraße 14\, 3503
 7 Marburg\, Room: +1/0120\, 2nd floor
URL:https://www.uni-marburg.de/en/prfolder-en/events/marburg-postdoc-meeti
 ng-2019
END:VEVENT
BEGIN:VTIMEZONE
TZID:Europe/Berlin
X-LIC-LOCATION:Europe/Berlin
BEGIN:STANDARD
DTSTART:20191027T020000
TZNAME:CET
TZOFFSETFROM:+0200
TZOFFSETTO:+0100
END:STANDARD
END:VTIMEZONE
END:VCALENDAR
