BEGIN:VCALENDAR
VERSION:2.0
PRODID:-//Plone.org//NONSGML plone.app.event//EN
X-WR-TIMEZONE:Europe/Berlin
BEGIN:VEVENT
SUMMARY:Photography and Society
DTSTART;TZID=Europe/Berlin:20180717T130000
DTEND;TZID=Europe/Berlin:20180721T140000
DTSTAMP:20260423T121322Z
UID:d29dcb496a67437daab63ef9e9afbd03@www.uni-marburg.de
CREATED:20180320T074439Z
DESCRIPTION:https://www.uni-marburg.de/en/prfolder-en/events/photography-a
 nd-society\nStudientage für Fotografie 2018: International\, interdiscipl
 inary Research Colloquium for PhD Candidates and Post-Docs
LAST-MODIFIED:20180320T074727Z
LOCATION:German Documentation Centre for Art History – Image Archive Fot
 o Marburg (DDK)\, Kunstgebäude\, Biegenstraße 11\, 35037 Marburg
URL:https://www.uni-marburg.de/en/prfolder-en/events/photography-and-socie
 ty
END:VEVENT
BEGIN:VTIMEZONE
TZID:Europe/Berlin
X-LIC-LOCATION:Europe/Berlin
BEGIN:DAYLIGHT
DTSTART:20180325T030000
TZNAME:CEST
TZOFFSETFROM:+0100
TZOFFSETTO:+0200
END:DAYLIGHT
END:VTIMEZONE
END:VCALENDAR
