BEGIN:VCALENDAR
VERSION:2.0
PRODID:-//Plone.org//NONSGML plone.app.event//EN
X-WR-TIMEZONE:Europe/Berlin
BEGIN:VEVENT
SUMMARY:SFB 1021 - International Symposium 2018
DTSTART;TZID=Europe/Berlin:20180919T090000
DTEND;TZID=Europe/Berlin:20180921T180000
DTSTAMP:20260424T031823Z
UID:a4c32bb054b0451586132d9caa2f7f76@www.uni-marburg.de
CREATED:20180629T120426Z
DESCRIPTION:https://www.uni-marburg.de/en/prfolder-en/events/sfb-1021-inte
 rnational-symposium-2018\nRNA viruses at the host interface - novel aspect
 s of viral replication\, antiviral immunity\, and mechanisms of tissue dam
 age and repair
LAST-MODIFIED:20180629T120657Z
LOCATION:19.09. Deutscher Sprachatlas\, Pilgrimstein 16 - 20. / 21.09. Aud
 itorium\, Baldingerstraße
URL:https://www.uni-marburg.de/en/prfolder-en/events/sfb-1021-internationa
 l-symposium-2018
END:VEVENT
BEGIN:VTIMEZONE
TZID:Europe/Berlin
X-LIC-LOCATION:Europe/Berlin
BEGIN:DAYLIGHT
DTSTART:20180325T030000
TZNAME:CEST
TZOFFSETFROM:+0100
TZOFFSETTO:+0200
END:DAYLIGHT
END:VTIMEZONE
END:VCALENDAR
