BEGIN:VCALENDAR
VERSION:2.0
PRODID:-//Plone.org//NONSGML plone.app.event//EN
X-WR-TIMEZONE:Europe/Berlin
BEGIN:VEVENT
SUMMARY:The Brain in Action
DTSTART;TZID=Europe/Berlin:20180524T090000
DTEND;TZID=Europe/Berlin:20180524T153000
DTSTAMP:20260424T074343Z
UID:6c50885c2d114721ae39bdfd66202610@www.uni-marburg.de
ATTENDEE;CN="Die Referentenliste entnehmen Sie bitte unserem Programm!";RO
 LE=REQ-PARTICIPANT:Die Referentenliste entnehmen Sie bitte unserem Program
 m!
CREATED:20180430T150211Z
DESCRIPTION:https://www.uni-marburg.de/en/prfolder-en/events/the-brain-in-
 action\n
LAST-MODIFIED:20180430T150317Z
LOCATION:Klinik für Psychiatrie und Psychotherapie
URL:https://www.uni-marburg.de/en/prfolder-en/events/the-brain-in-action
END:VEVENT
BEGIN:VTIMEZONE
TZID:Europe/Berlin
X-LIC-LOCATION:Europe/Berlin
BEGIN:DAYLIGHT
DTSTART:20180325T030000
TZNAME:CEST
TZOFFSETFROM:+0100
TZOFFSETTO:+0200
END:DAYLIGHT
END:VTIMEZONE
END:VCALENDAR
