BEGIN:VCALENDAR
VERSION:2.0
PRODID:-//Plone.org//NONSGML plone.app.event//EN
X-WR-TIMEZONE:Europe/Berlin
BEGIN:VEVENT
SUMMARY:University Summer Festival in the New Botanical Garden
DTSTART;TZID=Europe/Berlin:20230714T140000
DTSTAMP:20260424T112832Z
UID:bce14dac3a7e4a92b9c4010d2417ec48@www.uni-marburg.de
CREATED:20230424T130917Z
DESCRIPTION:https://www.uni-marburg.de/en/prfolder-en/events/university-su
 mmer-festival-in-the-new-botanical-garden\nThe university invites students
 \, employees and all interested parties to the Summer Festival 2023
LAST-MODIFIED:20230424T132815Z
LOCATION:New Botanical Garden\, Karl-von-Frisch-Strasse\, 35043 Marburg\, 
 Germany
URL:https://www.uni-marburg.de/en/prfolder-en/events/university-summer-fes
 tival-in-the-new-botanical-garden
END:VEVENT
BEGIN:VTIMEZONE
TZID:Europe/Berlin
X-LIC-LOCATION:Europe/Berlin
BEGIN:DAYLIGHT
DTSTART:20230326T030000
TZNAME:CEST
TZOFFSETFROM:+0100
TZOFFSETTO:+0200
END:DAYLIGHT
END:VTIMEZONE
END:VCALENDAR
