BEGIN:VCALENDAR
VERSION:2.0
PRODID:-//Plone.org//NONSGML plone.app.event//EN
X-WR-TIMEZONE:Europe/Berlin
BEGIN:VEVENT
SUMMARY:International Workshop: Representations of Change
DTSTART;VALUE=DATE:20180222
DTEND;VALUE=DATE:20180225
DTSTAMP:20260424T043559Z
UID:7e890cb25d8b4e68ae947dba342f13ac@www.uni-marburg.de
CREATED:20180209T095231Z
DESCRIPTION:https://www.uni-marburg.de/en/prfolder-en/events/workshop_re_c
 hange\nTime\, Space\, and Power in Qualitative Research on the MENA Region
  and Europe
LAST-MODIFIED:20180223T093358Z
LOCATION:Center for Near and Middle Eastern Studies (CNMS) Philipps-Univer
 sität\, Marburg\, Germany
URL:https://www.uni-marburg.de/en/prfolder-en/events/workshop_re_change
END:VEVENT
END:VCALENDAR
