BEGIN:VCALENDAR
VERSION:2.0
PRODID:-//Plone.org//NONSGML plone.app.event//EN
X-WR-TIMEZONE:Europe/Berlin
BEGIN:VEVENT
SUMMARY:Book Launch "Monitoring Pandemic Preparedness" by Carolin Mezes
DTSTART;TZID=Europe/Berlin:20241126T180000
DTEND;TZID=Europe/Berlin:20241126T190000
DTSTAMP:20260425T062219Z
UID:10eae09a0a2348eeb811e78dcf80cf6f@www.uni-marburg.de
ATTENDEE;CN="Author: Carolin Mezes (Universität Bielefeld)";ROLE=REQ-PART
 ICIPANT:Author: Carolin Mezes (Universität Bielefeld)
ATTENDEE;CN="Moderation: Il Tschung-Lim (Justus-Liebig-Universität Gieße
 n)";ROLE=REQ-PARTICIPANT:Moderation: Il Tschung-Lim (Justus-Liebig-Univers
 ität Gießen)
ATTENDEE;CN="Commentators: Kevin Hall (Norwegian University of Science and
  Technology Trondheim) & Mara Linden (Goethe Universität Frankfurt am Mai
 n)";ROLE=REQ-PARTICIPANT:Commentators: Kevin Hall (Norwegian University of
  Science and Technology Trondheim) & Mara Linden (Goethe Universität Fran
 kfurt am Main)
CREATED:20240620T165344Z
DESCRIPTION:https://www.uni-marburg.de/en/sfb138/news-events/events/book-l
 aunch-monitoring-pandemic-preparedness\nThe Collaborative Research Center 
 "Dynamics of Security" invites you to the virtual book launch of Carolin M
 ezes' monograph "Monitoring Pandemic Preparedness. Global Health's Securit
 y's Politics of Accountability\, Development\, and Infrastructure"
LAST-MODIFIED:20241112T091756Z
LOCATION:Online
URL:https://www.uni-marburg.de/en/sfb138/news-events/events/book-launch-mo
 nitoring-pandemic-preparedness
END:VEVENT
BEGIN:VTIMEZONE
TZID:Europe/Berlin
X-LIC-LOCATION:Europe/Berlin
BEGIN:STANDARD
DTSTART:20241027T020000
TZNAME:CET
TZOFFSETFROM:+0200
TZOFFSETTO:+0100
END:STANDARD
END:VTIMEZONE
END:VCALENDAR
