BEGIN:VCALENDAR
VERSION:2.0
PRODID:-//Plone.org//NONSGML plone.app.event//EN
X-WR-TIMEZONE:Europe/Berlin
BEGIN:VEVENT
SUMMARY:Book Launch "Befreiungskrieg - Nationsbildung und Gewalt in der Uk
 raine"\, Anna Veronika Wendland
DTSTART;TZID=Europe/Berlin:20240702T180000
DTEND;TZID=Europe/Berlin:20240702T190000
DTSTAMP:20260426T011257Z
UID:66aa3a15bf0b44fa997b0191a4910506@www.uni-marburg.de
CREATED:20240613T112102Z
DESCRIPTION:https://www.uni-marburg.de/en/sfb138/news-events/events/buchvo
 rstellung-befreiungskrieg-nationsbildung-und-gewalt-in-der-ukraine-anna-ve
 ronika-wendland\nThe Russian war of aggression on Ukraine of 24 February 2
 022 caused many to perceive Ukraine as a protagonist in European history f
 or the first time. In this book\, Anna Veronika Wendland unfolds the entir
 e panorama of Ukrainian history\, from the beginnings in medieval Kyiv to 
 the early modern attempts at state-building and the catastrophic experienc
 es of the 20th and 21st centuries. Wars and violence shaped the repeatedly
  interrupted nation-building of Ukraine just as much as the peaceful phase
 s of coming to terms with neighbours or even profiting from the supremacy 
 of the Russian Empire or the Soviet Union. In this interplay\, the Ukraini
 ans developed their specific constitutional traditions and ideas of freedo
 m - and thus evolved from a peasant nation under foreign masters into a mo
 dern\, pluralistic industrialised nation.
LAST-MODIFIED:20240613T112713Z
LOCATION:Online
URL:https://www.uni-marburg.de/en/sfb138/news-events/events/buchvorstellun
 g-befreiungskrieg-nationsbildung-und-gewalt-in-der-ukraine-anna-veronika-w
 endland
END:VEVENT
BEGIN:VTIMEZONE
TZID:Europe/Berlin
X-LIC-LOCATION:Europe/Berlin
BEGIN:DAYLIGHT
DTSTART:20240331T030000
TZNAME:CEST
TZOFFSETFROM:+0100
TZOFFSETTO:+0200
END:DAYLIGHT
END:VTIMEZONE
END:VCALENDAR
