BEGIN:VCALENDAR
VERSION:2.0
PRODID:-//Plone.org//NONSGML plone.app.event//EN
X-WR-TIMEZONE:Europe/Berlin
BEGIN:VEVENT
SUMMARY:Workshop "Human Rights in Times of Insecurity"
DTSTART;TZID=Europe/Berlin:20240902T093000
DTEND;TZID=Europe/Berlin:20240903T180000
DTSTAMP:20260422T072259Z
UID:47a56dfb273d4641bdaf68dd63f9f329@www.uni-marburg.de
CREATED:20240905T125532Z
DESCRIPTION:https://www.uni-marburg.de/en/sfb138/news-events/events/worksh
 op-human-rights-in-times-of-insecurity-1\n
LAST-MODIFIED:20241022T101255Z
LOCATION:Senatssaal im Hauptgebäude der Justus-Liebig-Universität Gieße
 n (Ludwigstraße 23)
URL:https://www.uni-marburg.de/en/sfb138/news-events/events/workshop-human
 -rights-in-times-of-insecurity-1
END:VEVENT
BEGIN:VTIMEZONE
TZID:Europe/Berlin
X-LIC-LOCATION:Europe/Berlin
BEGIN:DAYLIGHT
DTSTART:20240331T030000
TZNAME:CEST
TZOFFSETFROM:+0100
TZOFFSETTO:+0200
END:DAYLIGHT
END:VTIMEZONE
END:VCALENDAR
