BEGIN:VCALENDAR
VERSION:2.0
PRODID:-//Plone.org//NONSGML plone.app.event//EN
X-WR-TIMEZONE:Europe/Berlin
BEGIN:VEVENT
SUMMARY:13th Annual Synmikro Symposium
DTSTART;VALUE=DATE:20261021
DTEND;VALUE=DATE:20261022
DTSTAMP:20260421T161801Z
UID:e1c08d063e7f4b1aa7cbdce8c5968715@www.uni-marburg.de
CATEGORIES:()
CREATED:20260220T154604Z
DESCRIPTION:https://www.uni-marburg.de/en/synmikro/current/upcoming-events
 /13th-annual-synmikro-symposium\n
LAST-MODIFIED:20260220T154845Z
LOCATION:Center for Synthetic Microbiology
URL:https://www.uni-marburg.de/en/synmikro/current/upcoming-events/13th-an
 nual-synmikro-symposium
END:VEVENT
END:VCALENDAR
