BEGIN:VCALENDAR
VERSION:2.0
PRODID:-//Plone.org//NONSGML plone.app.event//EN
X-WR-TIMEZONE:Europe/Berlin
BEGIN:VEVENT
SUMMARY:Dr. Eva María Novoa Pardo\, Centre for Genomic Regulation\, Barce
 lona\, Spain
DTSTART;TZID=Europe/Berlin:20261201T090000
DTEND;TZID=Europe/Berlin:20261201T100000
DTSTAMP:20260425T002938Z
UID:bcf08017c6664213885d7fadcf2034ac@www.uni-marburg.de
CATEGORIES:()
CREATED:20241205T125047Z
DESCRIPTION:https://www.uni-marburg.de/en/synmikro/grk2937/whats-on/dates-
 and-events/grk2937_speaker-series_eva-maria-novoa\nSpeaker Series. More in
 formation coming soon.
LAST-MODIFIED:20260120T103712Z
LOCATION:SYNMIKRO Lecture Hall
URL:https://www.uni-marburg.de/en/synmikro/grk2937/whats-on/dates-and-even
 ts/grk2937_speaker-series_eva-maria-novoa
END:VEVENT
BEGIN:VTIMEZONE
TZID:Europe/Berlin
X-LIC-LOCATION:Europe/Berlin
BEGIN:STANDARD
DTSTART:20261025T020000
TZNAME:CET
TZOFFSETFROM:+0200
TZOFFSETTO:+0100
END:STANDARD
END:VTIMEZONE
END:VCALENDAR
