BEGIN:VCALENDAR
VERSION:2.0
PRODID:-//Plone.org//NONSGML plone.app.event//EN
X-WR-TIMEZONE:Europe/Berlin
BEGIN:VEVENT
SUMMARY:TRR 81 internal seminar - 24 February 2022
DTSTART;TZID=Europe/Berlin:20220224T160000
DTSTAMP:20260419T222932Z
UID:4ab347314e37442697956d7e9e42220d@www.uni-marburg.de
ATTENDEE;CN="A15 Hake & Z01 Bartkuhn";ROLE=REQ-PARTICIPANT:A15 Hake & Z01 
 Bartkuhn
CREATED:20201015T092438Z
DESCRIPTION:https://www.uni-marburg.de/en/trr81/news/events/seminar-240222
 \n
LAST-MODIFIED:20220215T080835Z
LOCATION:online
URL:https://www.uni-marburg.de/en/trr81/news/events/seminar-240222
END:VEVENT
BEGIN:VTIMEZONE
TZID:Europe/Berlin
X-LIC-LOCATION:Europe/Berlin
BEGIN:STANDARD
DTSTART:20211031T020000
TZNAME:CET
TZOFFSETFROM:+0200
TZOFFSETTO:+0100
END:STANDARD
END:VTIMEZONE
END:VCALENDAR
