BEGIN:VCALENDAR
VERSION:2.0
PRODID:-//Plone.org//NONSGML plone.app.event//EN
X-WR-TIMEZONE:Europe/Berlin
BEGIN:VEVENT
SUMMARY:TRR 81 & CRACKs Mini-Symposium
DTSTART;TZID=Europe/Berlin:20211101T153000
DTEND;TZID=Europe/Berlin:20211101T170000
DTSTAMP:20260420T005131Z
UID:00c8e63a162340a7a151c0f8af089639@www.uni-marburg.de
CREATED:20201015T092438Z
DESCRIPTION:https://www.uni-marburg.de/en/trr81/news/events/trr81_cracks_m
 inisymposium\n
LAST-MODIFIED:20211015T101450Z
LOCATION:online
URL:https://www.uni-marburg.de/en/trr81/news/events/trr81_cracks_minisympo
 sium
END:VEVENT
BEGIN:VTIMEZONE
TZID:Europe/Berlin
X-LIC-LOCATION:Europe/Berlin
BEGIN:STANDARD
DTSTART:20211031T020000
TZNAME:CET
TZOFFSETFROM:+0200
TZOFFSETTO:+0100
END:STANDARD
END:VTIMEZONE
END:VCALENDAR
