BEGIN:VCALENDAR
VERSION:2.0
PRODID:-//Plone.org//NONSGML plone.app.event//EN
X-WR-TIMEZONE:Europe/Berlin
BEGIN:VEVENT
SUMMARY:Digital information event on ProAcademia from Mentoring Hessen
DTSTART;TZID=Europe/Berlin:20251127T163000
DTEND;TZID=Europe/Berlin:20251127T180000
DTSTAMP:20260426T052153Z
UID:6488ec47e0934f5c866ff574f97790be@www.uni-marburg.de
ATTENDEE;CN="Geschäftsstelle Mentoring Hessen";ROLE=REQ-PARTICIPANT:Gesch
 äftsstelle Mentoring Hessen
CATEGORIES:()
CREATED:20251025T105746Z
DESCRIPTION:https://www.uni-marburg.de/en/university/administration/staff-
 units/gender-equality/current-events/events/digitale-infoveranstaltung-fue
 r-proacademia-english-von-mentoring-hessen\n
LAST-MODIFIED:20251110T122557Z
LOCATION:online
URL:https://www.uni-marburg.de/en/university/administration/staff-units/ge
 nder-equality/current-events/events/digitale-infoveranstaltung-fuer-proaca
 demia-english-von-mentoring-hessen
END:VEVENT
BEGIN:VTIMEZONE
TZID:Europe/Berlin
X-LIC-LOCATION:Europe/Berlin
BEGIN:STANDARD
DTSTART:20251026T020000
TZNAME:CET
TZOFFSETFROM:+0200
TZOFFSETTO:+0100
END:STANDARD
END:VTIMEZONE
END:VCALENDAR
